BEGIN:VCALENDAR
VERSION:2.0
PRODID:-//Pictures London//Cinema Listings//EN
CALSCALE:GREGORIAN
METHOD:PUBLISH
X-WR-CALNAME:Pictures London Cinema
BEGIN:VEVENT
UID:474f420d-863f-402f-a065-8806dbff0b47@pictures.london
DTSTART:20260427T181000Z
DTEND:20260427T194600Z
SUMMARY:The Reckoning of Erin Morrigan (2025) at The Lexi Cinema
DESCRIPTION:The Reckoning of Erin Morrigan (2025)\nat The Lexi Cinema\nBook: https://www.eventbrite.com/e/lvff-2026-the-reckoning-of-erin-morrigan-screeningqa-with-olwen-fouere-tickets-1984859603505\nvia Pictures (pictures.london)
LOCATION:The Lexi Cinema\, 194B Chamberlayne Road\, Kensal Rise\, NW10 3JU
URL:https://www.eventbrite.com/e/lvff-2026-the-reckoning-of-erin-morrigan-screeningqa-with-olwen-fouere-tickets-1984859603505
STATUS:CONFIRMED
END:VEVENT
END:VCALENDAR