BEGIN:VCALENDAR
VERSION:2.0
PRODID:-//Pictures London//Cinema Listings//EN
CALSCALE:GREGORIAN
METHOD:PUBLISH
X-WR-CALNAME:Pictures London Cinema
BEGIN:VEVENT
UID:471cf701-1f87-4bd3-9fbc-ba2201d6ec9a@pictures.london
DTSTART:20260421T181500Z
DTEND:20260421T195100Z
SUMMARY:Rebuilding (2025) at Everyman King's Cross
DESCRIPTION:Rebuilding (2025)\nat Everyman King's Cross\nBook: https://purchase.everymancinema.com/launch/ticketing/36489640-5a82-5597-bc42-8b8fe12cfac8\nvia Pictures (pictures.london)
LOCATION:Everyman King's Cross\, Coal Drops Yard\, King's Cross\, N1C 4AG
URL:https://purchase.everymancinema.com/launch/ticketing/36489640-5a82-5597-bc42-8b8fe12cfac8
STATUS:CONFIRMED
END:VEVENT
END:VCALENDAR