BEGIN:VCALENDAR
VERSION:2.0
PRODID:-//Pictures London//Cinema Listings//EN
CALSCALE:GREGORIAN
METHOD:PUBLISH
X-WR-CALNAME:Pictures London Cinema
BEGIN:VEVENT
UID:46d5a397-a22b-4ace-873e-77908771fbc2@pictures.london
DTSTART:20260428T201500Z
DTEND:20260428T220200Z
SUMMARY:Hokum (2026) at West Norwood Picturehouse
DESCRIPTION:Hokum (2026)\nat West Norwood Picturehouse\nEvent: preview\nBook: https://www.picturehouses.com/movie-details/023/HO00017849/hokum\nvia Pictures (pictures.london)
LOCATION:West Norwood Picturehouse\, The Old Library\, 14-16 Knight's Hill\, West Norwood\, SE27 9NX
URL:https://www.picturehouses.com/movie-details/023/HO00017849/hokum
STATUS:CONFIRMED
END:VEVENT
END:VCALENDAR