BEGIN:VCALENDAR
VERSION:2.0
PRODID:-//Pictures London//Cinema Listings//EN
CALSCALE:GREGORIAN
METHOD:PUBLISH
X-WR-CALNAME:Pictures London Cinema
BEGIN:VEVENT
UID:46c007ce-d1a6-4b00-b2dc-ea81ad2f9ec9@pictures.london
DTSTART:20260501T164000Z
DTEND:20260501T183900Z
SUMMARY:The Devil Wears Prada 2 (2026) at The Ritzy
DESCRIPTION:The Devil Wears Prada 2 (2026)\nat The Ritzy\nBook: https://www.picturehouses.com/movie-details/004/HO00017738/the-devil-wears-prada-2\nvia Pictures (pictures.london)
LOCATION:The Ritzy\, Brixton Oval\, Coldharbour Lane\, Brixton\, SW2 1JG
URL:https://www.picturehouses.com/movie-details/004/HO00017738/the-devil-wears-prada-2
STATUS:CONFIRMED
END:VEVENT
END:VCALENDAR