BEGIN:VCALENDAR
VERSION:2.0
PRODID:-//Pictures London//Cinema Listings//EN
CALSCALE:GREGORIAN
METHOD:PUBLISH
X-WR-CALNAME:Pictures London Cinema
BEGIN:VEVENT
UID:4677b749-c79b-4370-9bd7-27aea4837105@pictures.london
DTSTART:20260421T190000Z
DTEND:20260421T213700Z
SUMMARY:Project Hail Mary (2026) at Everyman King's Cross
DESCRIPTION:Project Hail Mary (2026)\nat Everyman King's Cross\nBook: https://purchase.everymancinema.com/launch/ticketing/760f75f7-ac9c-52d9-9c03-9ce9efc26d29\nvia Pictures (pictures.london)
LOCATION:Everyman King's Cross\, Coal Drops Yard\, King's Cross\, N1C 4AG
URL:https://purchase.everymancinema.com/launch/ticketing/760f75f7-ac9c-52d9-9c03-9ce9efc26d29
STATUS:CONFIRMED
END:VEVENT
END:VCALENDAR