BEGIN:VCALENDAR
VERSION:2.0
PRODID:-//Pictures London//Cinema Listings//EN
CALSCALE:GREGORIAN
METHOD:PUBLISH
X-WR-CALNAME:Pictures London Cinema
BEGIN:VEVENT
UID:4627c133-f284-41c6-9ceb-e96b876ab772@pictures.london
DTSTART:20260429T173000Z
DTEND:20260429T183400Z
SUMMARY:Uncommon Voices: Exploring Class in New British Cinema (2025) at Rio Cinema
DESCRIPTION:Uncommon Voices: Exploring Class in New British Cinema (2025)\nat Rio Cinema\nBook: https://riocinema.org.uk/Rio.dll/WhatsOn?f=2383958\nvia Pictures (pictures.london)
LOCATION:Rio Cinema\, 107 Kingsland High Street\, Dalston\, E8 2PB
URL:https://riocinema.org.uk/Rio.dll/WhatsOn?f=2383958
STATUS:CONFIRMED
END:VEVENT
END:VCALENDAR