BEGIN:VCALENDAR
VERSION:2.0
PRODID:-//Pictures London//Cinema Listings//EN
CALSCALE:GREGORIAN
METHOD:PUBLISH
X-WR-CALNAME:Pictures London Cinema
BEGIN:VEVENT
UID:45b5c166-fed8-450a-b41a-4cce55889a17@pictures.london
DTSTART:20260424T204500Z
DTEND:20260424T223600Z
SUMMARY:Drunken Master (1978) at Finsbury Park Picturehouse
DESCRIPTION:Drunken Master (1978)\nat Finsbury Park Picturehouse\nBook: https://www.picturehouses.com/movie-details/029/HO00017681/drunken-master-dubbed\nvia Pictures (pictures.london)
LOCATION:Finsbury Park Picturehouse\, Unit B\, Finsbury Park Station\, Finsbury Park\, N4 3FP
URL:https://www.picturehouses.com/movie-details/029/HO00017681/drunken-master-dubbed
STATUS:CONFIRMED
END:VEVENT
END:VCALENDAR