BEGIN:VCALENDAR
VERSION:2.0
PRODID:-//Pictures London//Cinema Listings//EN
CALSCALE:GREGORIAN
METHOD:PUBLISH
X-WR-CALNAME:Pictures London Cinema
BEGIN:VEVENT
UID:456c7bc8-a1de-4ca2-a510-38b33f367b00@pictures.london
DTSTART:20260501T180000Z
DTEND:20260501T195900Z
SUMMARY:The Devil Wears Prada 2 (2026) at Electric Cinema White City
DESCRIPTION:The Devil Wears Prada 2 (2026)\nat Electric Cinema White City\nBook: https://www.electriccinema.co.uk/programme/\nvia Pictures (pictures.london)
LOCATION:Electric Cinema White City\, Television Centre\, White City\, W12 7SL
URL:https://www.electriccinema.co.uk/programme/
STATUS:CONFIRMED
END:VEVENT
END:VCALENDAR