BEGIN:VCALENDAR
VERSION:2.0
PRODID:-//Pictures London//Cinema Listings//EN
CALSCALE:GREGORIAN
METHOD:PUBLISH
X-WR-CALNAME:Pictures London Cinema
BEGIN:VEVENT
UID:4542be5f-1b85-462b-bb4b-8a5c5eaa6c12@pictures.london
DTSTART:20260421T193000Z
DTEND:20260421T211500Z
SUMMARY:The Drama (2026) at Castle Sidcup
DESCRIPTION:The Drama (2026)\nat Castle Sidcup\nBook: https://castlesidcup.com/bookings/1814/\nvia Pictures (pictures.london)
LOCATION:Castle Sidcup\, 44 Main Road\, Sidcup\, DA14 6NJ
URL:https://castlesidcup.com/bookings/1814/
STATUS:CONFIRMED
END:VEVENT
END:VCALENDAR