BEGIN:VCALENDAR
VERSION:2.0
PRODID:-//Pictures London//Cinema Listings//EN
CALSCALE:GREGORIAN
METHOD:PUBLISH
X-WR-CALNAME:Pictures London Cinema
BEGIN:VEVENT
UID:453760d8-4916-418d-bae2-b0e23d46f732@pictures.london
DTSTART:20260428T180000Z
DTEND:20260428T200000Z
SUMMARY:Thai Fighters (2026) at BFI Southbank
DESCRIPTION:Thai Fighters (2026)\nat BFI Southbank\nEvent: q and a\nBook: https://whatson.bfi.org.uk/Online/default.asp?doWork::WScontent::loadArticle=Load&BOparam::WScontent::loadArticle::article_id=DB7D3BFE-F8BC-4EA6-B2C2-55727AD1A179&BOparam::WScontent::loadArticle::context_id=21ED09E3-6ACB-4CCA-B6DC-A4B9AFD2AD64\nvia Pictures (pictures.london)
LOCATION:BFI Southbank\, Belvedere Road\, South Bank\, SE1 8XT
URL:https://whatson.bfi.org.uk/Online/default.asp?doWork::WScontent::loadArticle=Load&BOparam::WScontent::loadArticle::article_id=DB7D3BFE-F8BC-4EA6-B2C2-55727AD1A179&BOparam::WScontent::loadArticle::context_id=21ED09E3-6ACB-4CCA-B6DC-A4B9AFD2AD64
STATUS:CONFIRMED
END:VEVENT
END:VCALENDAR