BEGIN:VCALENDAR
VERSION:2.0
PRODID:-//Pictures London//Cinema Listings//EN
CALSCALE:GREGORIAN
METHOD:PUBLISH
X-WR-CALNAME:Pictures London Cinema
BEGIN:VEVENT
UID:44636c16-a2cf-4a86-9b09-f5a4510fa0a3@pictures.london
DTSTART:20260421T174500Z
DTEND:20260421T191100Z
SUMMARY:The Blue Trail (2025) at Finsbury Park Picturehouse
DESCRIPTION:The Blue Trail (2025)\nat Finsbury Park Picturehouse\nBook: https://www.picturehouses.com/movie-details/029/HO00017906/the-blue-trail\nvia Pictures (pictures.london)
LOCATION:Finsbury Park Picturehouse\, Unit B\, Finsbury Park Station\, Finsbury Park\, N4 3FP
URL:https://www.picturehouses.com/movie-details/029/HO00017906/the-blue-trail
STATUS:CONFIRMED
END:VEVENT
END:VCALENDAR