BEGIN:VCALENDAR
VERSION:2.0
PRODID:-//Pictures London//Cinema Listings//EN
CALSCALE:GREGORIAN
METHOD:PUBLISH
X-WR-CALNAME:Pictures London Cinema
BEGIN:VEVENT
UID:4452d2fa-8e99-42a0-8bc5-dc7b4b4c9b80@pictures.london
DTSTART:20260422T190000Z
DTEND:20260422T210700Z
SUMMARY:Michael (2026) at Everyman Muswell Hill
DESCRIPTION:Michael (2026)\nat Everyman Muswell Hill\nBook: https://purchase.everymancinema.com/launch/ticketing/7808dbc1-836b-59d2-8dca-bf9345a4a00c\nvia Pictures (pictures.london)
LOCATION:Everyman Muswell Hill\, Fortis Green Road\, Muswell Hill\, N10 3TD
URL:https://purchase.everymancinema.com/launch/ticketing/7808dbc1-836b-59d2-8dca-bf9345a4a00c
STATUS:CONFIRMED
END:VEVENT
END:VCALENDAR