BEGIN:VCALENDAR
VERSION:2.0
PRODID:-//Pictures London//Cinema Listings//EN
CALSCALE:GREGORIAN
METHOD:PUBLISH
X-WR-CALNAME:Pictures London Cinema
BEGIN:VEVENT
UID:444c1dbb-df7b-47db-bdf0-d39eaf3bcc50@pictures.london
DTSTART:20260424T203500Z
DTEND:20260424T223400Z
SUMMARY:The Mosquito Coast (1986) at BFI Southbank
DESCRIPTION:The Mosquito Coast (1986)\nat BFI Southbank\nBook: https://whatson.bfi.org.uk/Online/default.asp?doWork::WScontent::loadArticle=Load&BOparam::WScontent::loadArticle::article_id=EB697679-4C59-49DD-A0C3-CABFAFFC6E09&BOparam::WScontent::loadArticle::context_id=4F563F27-64D9-4C99-AA72-98A9BE9D87CA\nvia Pictures (pictures.london)
LOCATION:BFI Southbank\, Belvedere Road\, South Bank\, SE1 8XT
URL:https://whatson.bfi.org.uk/Online/default.asp?doWork::WScontent::loadArticle=Load&BOparam::WScontent::loadArticle::article_id=EB697679-4C59-49DD-A0C3-CABFAFFC6E09&BOparam::WScontent::loadArticle::context_id=4F563F27-64D9-4C99-AA72-98A9BE9D87CA
STATUS:CONFIRMED
END:VEVENT
END:VCALENDAR