BEGIN:VCALENDAR
VERSION:2.0
PRODID:-//Pictures London//Cinema Listings//EN
CALSCALE:GREGORIAN
METHOD:PUBLISH
X-WR-CALNAME:Pictures London Cinema
BEGIN:VEVENT
UID:43c2ed28-0c7b-4564-95a7-2ab56aa79137@pictures.london
DTSTART:20260421T200000Z
DTEND:20260421T221300Z
SUMMARY:La Grazia (2025) at Everyman King's Cross
DESCRIPTION:La Grazia (2025)\nat Everyman King's Cross\nBook: https://purchase.everymancinema.com/launch/ticketing/457afda9-fc85-5a60-9fd0-05f6c990138f\nvia Pictures (pictures.london)
LOCATION:Everyman King's Cross\, Coal Drops Yard\, King's Cross\, N1C 4AG
URL:https://purchase.everymancinema.com/launch/ticketing/457afda9-fc85-5a60-9fd0-05f6c990138f
STATUS:CONFIRMED
END:VEVENT
END:VCALENDAR