BEGIN:VCALENDAR
VERSION:2.0
PRODID:-//Pictures London//Cinema Listings//EN
CALSCALE:GREGORIAN
METHOD:PUBLISH
X-WR-CALNAME:Pictures London Cinema
BEGIN:VEVENT
UID:43a0cac6-8c03-4524-9b71-11741f6ce3b7@pictures.london
DTSTART:20260424T200000Z
DTEND:20260424T221200Z
SUMMARY:Challengers (2024) at Finsbury Park Picturehouse
DESCRIPTION:Challengers (2024)\nat Finsbury Park Picturehouse\nEvent: anniversary\nBook: https://www.picturehouses.com/movie-details/029/HO00017489/lob-sters-tennis-anniversary-screening-challengers\nvia Pictures (pictures.london)
LOCATION:Finsbury Park Picturehouse\, Unit B\, Finsbury Park Station\, Finsbury Park\, N4 3FP
URL:https://www.picturehouses.com/movie-details/029/HO00017489/lob-sters-tennis-anniversary-screening-challengers
STATUS:CONFIRMED
END:VEVENT
END:VCALENDAR