BEGIN:VCALENDAR
VERSION:2.0
PRODID:-//Pictures London//Cinema Listings//EN
CALSCALE:GREGORIAN
METHOD:PUBLISH
X-WR-CALNAME:Pictures London Cinema
BEGIN:VEVENT
UID:43581afd-3303-46a0-b883-87c9fdfb658a@pictures.london
DTSTART:20260425T131500Z
DTEND:20260425T153000Z
SUMMARY:Speed Racer (2008) at Prince Charles Cinema
DESCRIPTION:Speed Racer (2008)\nat Prince Charles Cinema\nFormat: 35MM\nBook: https://princecharlescinema.com/prince-charles-cinema/booknow/31625614\nvia Pictures (pictures.london)
LOCATION:Prince Charles Cinema\, 7 Leicester Place\, Leicester Square\, WC2H 7BY
URL:https://princecharlescinema.com/prince-charles-cinema/booknow/31625614
STATUS:CONFIRMED
END:VEVENT
END:VCALENDAR