BEGIN:VCALENDAR
VERSION:2.0
PRODID:-//Pictures London//Cinema Listings//EN
CALSCALE:GREGORIAN
METHOD:PUBLISH
X-WR-CALNAME:Pictures London Cinema
BEGIN:VEVENT
UID:434c788b-2752-43a6-8576-d09826caf99a@pictures.london
DTSTART:20260427T101500Z
DTEND:20260427T121500Z
SUMMARY:Parent & Baby Screening: Akira at Barbican Cinema
DESCRIPTION:Parent & Baby Screening: Akira\nat Barbican Cinema\nBook: https://tickets.barbican.org.uk/choose-seats/3474401\nvia Pictures (pictures.london)
LOCATION:Barbican Cinema\, Silk Street\, Barbican\, EC2Y 8DS
URL:https://tickets.barbican.org.uk/choose-seats/3474401
STATUS:CONFIRMED
END:VEVENT
END:VCALENDAR