BEGIN:VCALENDAR
VERSION:2.0
PRODID:-//Pictures London//Cinema Listings//EN
CALSCALE:GREGORIAN
METHOD:PUBLISH
X-WR-CALNAME:Pictures London Cinema
BEGIN:VEVENT
UID:42fd09c2-47a3-4fcd-8d1e-0b48afe5bc1e@pictures.london
DTSTART:20260421T203000Z
DTEND:20260421T221500Z
SUMMARY:The Drama (2026) at Ealing Picturehouse
DESCRIPTION:The Drama (2026)\nat Ealing Picturehouse\nBook: https://www.picturehouses.com/movie-details/031/HO00017737/the-drama\nvia Pictures (pictures.london)
LOCATION:Ealing Picturehouse\, The Ealing Cinema\, Ealing Green\, Ealing\, W5 2PA
URL:https://www.picturehouses.com/movie-details/031/HO00017737/the-drama
STATUS:CONFIRMED
END:VEVENT
END:VCALENDAR