BEGIN:VCALENDAR
VERSION:2.0
PRODID:-//Pictures London//Cinema Listings//EN
CALSCALE:GREGORIAN
METHOD:PUBLISH
X-WR-CALNAME:Pictures London Cinema
BEGIN:VEVENT
UID:42e70a9c-90bc-4938-ab27-38ddab59d711@pictures.london
DTSTART:20260426T150000Z
DTEND:20260426T163700Z
SUMMARY:10 Things I Hate About You (1999) at Prince Charles Cinema
DESCRIPTION:10 Things I Hate About You (1999)\nat Prince Charles Cinema\nFormat: 35MM\nBook: https://princecharlescinema.com/prince-charles-cinema/booknow/31625620\nvia Pictures (pictures.london)
LOCATION:Prince Charles Cinema\, 7 Leicester Place\, Leicester Square\, WC2H 7BY
URL:https://princecharlescinema.com/prince-charles-cinema/booknow/31625620
STATUS:CONFIRMED
END:VEVENT
END:VCALENDAR