BEGIN:VCALENDAR
VERSION:2.0
PRODID:-//Pictures London//Cinema Listings//EN
CALSCALE:GREGORIAN
METHOD:PUBLISH
X-WR-CALNAME:Pictures London Cinema
BEGIN:VEVENT
UID:42d44453-fd2d-4333-bbd0-bdf0500a8a27@pictures.london
DTSTART:20260501T130000Z
DTEND:20260501T145900Z
SUMMARY:The Devil Wears Prada 2 (2026) at Everyman Barnet
DESCRIPTION:The Devil Wears Prada 2 (2026)\nat Everyman Barnet\nBook: https://purchase.everymancinema.com/launch/ticketing/2a320111-a58b-50ae-8372-bc88e25ffef7\nvia Pictures (pictures.london)
LOCATION:Everyman Barnet\, Great North Road\, Barnet\, EN5 5SJ
URL:https://purchase.everymancinema.com/launch/ticketing/2a320111-a58b-50ae-8372-bc88e25ffef7
STATUS:CONFIRMED
END:VEVENT
END:VCALENDAR