BEGIN:VCALENDAR
VERSION:2.0
PRODID:-//Pictures London//Cinema Listings//EN
CALSCALE:GREGORIAN
METHOD:PUBLISH
X-WR-CALNAME:Pictures London Cinema
BEGIN:VEVENT
UID:42cd26f5-925c-4022-9fad-41efee226fbf@pictures.london
DTSTART:20260422T170000Z
DTEND:20260422T182900Z
SUMMARY:Stand by Me (1986) at Curzon Victoria
DESCRIPTION:Stand by Me (1986)\nat Curzon Victoria\nFormat: DCP_4K\nBook: https://www.curzon.com/films/film-club-stand-by-me-4k-restoration/HO00006911/\nvia Pictures (pictures.london)
LOCATION:Curzon Victoria\, 58 Victoria Street\, Victoria\, SW1E 5JA
URL:https://www.curzon.com/films/film-club-stand-by-me-4k-restoration/HO00006911/
STATUS:CONFIRMED
END:VEVENT
END:VCALENDAR