BEGIN:VCALENDAR
VERSION:2.0
PRODID:-//Pictures London//Cinema Listings//EN
CALSCALE:GREGORIAN
METHOD:PUBLISH
X-WR-CALNAME:Pictures London Cinema
BEGIN:VEVENT
UID:429c030b-2349-42a1-afb4-e003dc891722@pictures.london
DTSTART:20260421T103000Z
DTEND:20260421T120800Z
SUMMARY:The Super Mario Galaxy Movie (2026) at Everyman Muswell Hill
DESCRIPTION:The Super Mario Galaxy Movie (2026)\nat Everyman Muswell Hill\nBook: https://purchase.everymancinema.com/launch/ticketing/1d416a6c-5973-5bb6-9d5d-a4783eb432c0\nvia Pictures (pictures.london)
LOCATION:Everyman Muswell Hill\, Fortis Green Road\, Muswell Hill\, N10 3TD
URL:https://purchase.everymancinema.com/launch/ticketing/1d416a6c-5973-5bb6-9d5d-a4783eb432c0
STATUS:CONFIRMED
END:VEVENT
END:VCALENDAR