BEGIN:VCALENDAR
VERSION:2.0
PRODID:-//Pictures London//Cinema Listings//EN
CALSCALE:GREGORIAN
METHOD:PUBLISH
X-WR-CALNAME:Pictures London Cinema
BEGIN:VEVENT
UID:41b7f1fe-7a2a-4413-a083-a6d688c3da25@pictures.london
DTSTART:20260421T200000Z
DTEND:20260421T215000Z
SUMMARY:Father Mother Sister Brother (2025) at Picturehouse Central
DESCRIPTION:Father Mother Sister Brother (2025)\nat Picturehouse Central\nBook: https://www.picturehouses.com/movie-details/022/HO00017851/father-mother-sister-brother\nvia Pictures (pictures.london)
LOCATION:Picturehouse Central\, Corner of Great Windmill Street & Shaftesbury Avenue\, West End\, W1D 7DH
URL:https://www.picturehouses.com/movie-details/022/HO00017851/father-mother-sister-brother
STATUS:CONFIRMED
END:VEVENT
END:VCALENDAR