BEGIN:VCALENDAR
VERSION:2.0
PRODID:-//Pictures London//Cinema Listings//EN
CALSCALE:GREGORIAN
METHOD:PUBLISH
X-WR-CALNAME:Pictures London Cinema
BEGIN:VEVENT
UID:417526d3-12ef-4e81-b8d7-bb24d27c796d@pictures.london
DTSTART:20260422T120000Z
DTEND:20260422T140700Z
SUMMARY:Michael (2026) at Everyman Stratford International
DESCRIPTION:Michael (2026)\nat Everyman Stratford International\nBook: https://purchase.everymancinema.com/launch/ticketing/70570f25-71f0-5fe3-8dcb-81b5a700d5ae\nvia Pictures (pictures.london)
LOCATION:Everyman Stratford International\, International Way\, Stratford\, E20 1GL
URL:https://purchase.everymancinema.com/launch/ticketing/70570f25-71f0-5fe3-8dcb-81b5a700d5ae
STATUS:CONFIRMED
END:VEVENT
END:VCALENDAR