BEGIN:VCALENDAR
VERSION:2.0
PRODID:-//Pictures London//Cinema Listings//EN
CALSCALE:GREGORIAN
METHOD:PUBLISH
X-WR-CALNAME:Pictures London Cinema
BEGIN:VEVENT
UID:4170b726-401a-4967-9afe-0f9cacf7f6b5@pictures.london
DTSTART:20260421T165500Z
DTEND:20260421T184000Z
SUMMARY:The Drama (2026) at Barbican Cinema
DESCRIPTION:The Drama (2026)\nat Barbican Cinema\nBook: https://tickets.barbican.org.uk/choose-seats/3469603\nvia Pictures (pictures.london)
LOCATION:Barbican Cinema\, Silk Street\, Barbican\, EC2Y 8DS
URL:https://tickets.barbican.org.uk/choose-seats/3469603
STATUS:CONFIRMED
END:VEVENT
END:VCALENDAR