BEGIN:VCALENDAR
VERSION:2.0
PRODID:-//Pictures London//Cinema Listings//EN
CALSCALE:GREGORIAN
METHOD:PUBLISH
X-WR-CALNAME:Pictures London Cinema
BEGIN:VEVENT
UID:41249ca0-6284-42d3-b77b-428f7094985b@pictures.london
DTSTART:20260421T174500Z
DTEND:20260421T202200Z
SUMMARY:Project Hail Mary (2026) at Rich Mix
DESCRIPTION:Project Hail Mary (2026)\nat Rich Mix\nBook: https://richmix.org.uk/whats-on/cinema/project-hail-mary/\nvia Pictures (pictures.london)
LOCATION:Rich Mix\, 35-47 Bethnal Green Road\, Shoreditch\, E1 6LA
URL:https://richmix.org.uk/whats-on/cinema/project-hail-mary/
STATUS:CONFIRMED
END:VEVENT
END:VCALENDAR