BEGIN:VCALENDAR
VERSION:2.0
PRODID:-//Pictures London//Cinema Listings//EN
CALSCALE:GREGORIAN
METHOD:PUBLISH
X-WR-CALNAME:Pictures London Cinema
BEGIN:VEVENT
UID:40924ad2-de0e-4de7-b28d-982f94ff3981@pictures.london
DTSTART:20260421T151500Z
DTEND:20260421T172900Z
SUMMARY:Lee Cronin's The Mummy (2026) at Genesis Cinema
DESCRIPTION:Lee Cronin's The Mummy (2026)\nat Genesis Cinema\nBook: https://genesis.admit-one.co.uk/seats/?perfCode=10585\nvia Pictures (pictures.london)
LOCATION:Genesis Cinema\, 93-95 Mile End Road\, Mile End\, E1 4UJ
URL:https://genesis.admit-one.co.uk/seats/?perfCode=10585
STATUS:CONFIRMED
END:VEVENT
END:VCALENDAR