BEGIN:VCALENDAR
VERSION:2.0
PRODID:-//Pictures London//Cinema Listings//EN
CALSCALE:GREGORIAN
METHOD:PUBLISH
X-WR-CALNAME:Pictures London Cinema
BEGIN:VEVENT
UID:407d974b-a826-48a4-a50a-3de4f37856e3@pictures.london
DTSTART:20260424T110000Z
DTEND:20260424T131400Z
SUMMARY:Princess Mononoke (1997) at Prince Charles Cinema
DESCRIPTION:Princess Mononoke (1997)\nat Prince Charles Cinema\nBook: https://princecharlescinema.com/prince-charles-cinema/booknow/31625612\nvia Pictures (pictures.london)
LOCATION:Prince Charles Cinema\, 7 Leicester Place\, Leicester Square\, WC2H 7BY
URL:https://princecharlescinema.com/prince-charles-cinema/booknow/31625612
STATUS:CONFIRMED
END:VEVENT
END:VCALENDAR