BEGIN:VCALENDAR
VERSION:2.0
PRODID:-//Pictures London//Cinema Listings//EN
CALSCALE:GREGORIAN
METHOD:PUBLISH
X-WR-CALNAME:Pictures London Cinema
BEGIN:VEVENT
UID:3fd7cbe6-a9e0-4aac-9dff-f840ae0df7e7@pictures.london
DTSTART:20260422T130000Z
DTEND:20260422T150700Z
SUMMARY:Michael (2026) at Everyman King's Cross
DESCRIPTION:Michael (2026)\nat Everyman King's Cross\nBook: https://purchase.everymancinema.com/launch/ticketing/bd35783e-1421-5bb4-80df-549eec07146b\nvia Pictures (pictures.london)
LOCATION:Everyman King's Cross\, Coal Drops Yard\, King's Cross\, N1C 4AG
URL:https://purchase.everymancinema.com/launch/ticketing/bd35783e-1421-5bb4-80df-549eec07146b
STATUS:CONFIRMED
END:VEVENT
END:VCALENDAR