BEGIN:VCALENDAR
VERSION:2.0
PRODID:-//Pictures London//Cinema Listings//EN
CALSCALE:GREGORIAN
METHOD:PUBLISH
X-WR-CALNAME:Pictures London Cinema
BEGIN:VEVENT
UID:3f11b3d2-e3df-46fd-9077-7e675ff9ec85@pictures.london
DTSTART:20260421T160000Z
DTEND:20260421T173800Z
SUMMARY:The Super Mario Galaxy Movie (2026) at Everyman Canary Wharf
DESCRIPTION:The Super Mario Galaxy Movie (2026)\nat Everyman Canary Wharf\nBook: https://purchase.everymancinema.com/launch/ticketing/f0d07654-e4b4-52aa-8197-49bc24f8608d\nvia Pictures (pictures.london)
LOCATION:Everyman Canary Wharf\, Crossrail Place\, Canary Wharf\, E14 5NY
URL:https://purchase.everymancinema.com/launch/ticketing/f0d07654-e4b4-52aa-8197-49bc24f8608d
STATUS:CONFIRMED
END:VEVENT
END:VCALENDAR