BEGIN:VCALENDAR
VERSION:2.0
PRODID:-//Pictures London//Cinema Listings//EN
CALSCALE:GREGORIAN
METHOD:PUBLISH
X-WR-CALNAME:Pictures London Cinema
BEGIN:VEVENT
UID:3f08ce16-e393-4abd-b201-566dd8df17fb@pictures.london
DTSTART:20260421T150000Z
DTEND:20260421T163800Z
SUMMARY:The Super Mario Galaxy Movie (2026) at Curzon Kingston
DESCRIPTION:The Super Mario Galaxy Movie (2026)\nat Curzon Kingston\nBook: https://www.curzon.com/films/the-super-mario-galaxy-movie/HO00006890/\nvia Pictures (pictures.london)
LOCATION:Curzon Kingston\, Richmond Road\, Kingston\, KT2 5BW
URL:https://www.curzon.com/films/the-super-mario-galaxy-movie/HO00006890/
STATUS:CONFIRMED
END:VEVENT
END:VCALENDAR