BEGIN:VCALENDAR
VERSION:2.0
PRODID:-//Pictures London//Cinema Listings//EN
CALSCALE:GREGORIAN
METHOD:PUBLISH
X-WR-CALNAME:Pictures London Cinema
BEGIN:VEVENT
UID:3ec0be2e-9a26-4149-a68e-d9e7868a7554@pictures.london
DTSTART:20260426T182000Z
DTEND:20260426T195700Z
SUMMARY:Multiple Maniacs (1970) at BFI Southbank
DESCRIPTION:Multiple Maniacs (1970)\nat BFI Southbank\nBook: https://whatson.bfi.org.uk/Online/default.asp?doWork::WScontent::loadArticle=Load&BOparam::WScontent::loadArticle::article_id=784F6EAC-6371-4904-B192-5B4E1FBCEE2C&BOparam::WScontent::loadArticle::context_id=61A9180A-FF4C-42DB-A08F-E90E040F07F1\nvia Pictures (pictures.london)
LOCATION:BFI Southbank\, Belvedere Road\, South Bank\, SE1 8XT
URL:https://whatson.bfi.org.uk/Online/default.asp?doWork::WScontent::loadArticle=Load&BOparam::WScontent::loadArticle::article_id=784F6EAC-6371-4904-B192-5B4E1FBCEE2C&BOparam::WScontent::loadArticle::context_id=61A9180A-FF4C-42DB-A08F-E90E040F07F1
STATUS:CONFIRMED
END:VEVENT
END:VCALENDAR