BEGIN:VCALENDAR
VERSION:2.0
PRODID:-//Pictures London//Cinema Listings//EN
CALSCALE:GREGORIAN
METHOD:PUBLISH
X-WR-CALNAME:Pictures London Cinema
BEGIN:VEVENT
UID:3dd0fac6-5348-4c8b-8116-0363ec04700f@pictures.london
DTSTART:20260421T152000Z
DTEND:20260421T171000Z
SUMMARY:The Magic Faraway Tree (2026) at Everyman Barnet
DESCRIPTION:The Magic Faraway Tree (2026)\nat Everyman Barnet\nBook: https://purchase.everymancinema.com/launch/ticketing/4f7234ef-bb0d-5a9c-887e-5fdce4a6a642\nvia Pictures (pictures.london)
LOCATION:Everyman Barnet\, Great North Road\, Barnet\, EN5 5SJ
URL:https://purchase.everymancinema.com/launch/ticketing/4f7234ef-bb0d-5a9c-887e-5fdce4a6a642
STATUS:CONFIRMED
END:VEVENT
END:VCALENDAR