BEGIN:VCALENDAR
VERSION:2.0
PRODID:-//Pictures London//Cinema Listings//EN
CALSCALE:GREGORIAN
METHOD:PUBLISH
X-WR-CALNAME:Pictures London Cinema
BEGIN:VEVENT
UID:3dbfd9c4-35ec-4621-adef-19c0e860b71e@pictures.london
DTSTART:20260424T180000Z
DTEND:20260424T202900Z
SUMMARY:Cold War Visions: The Sacrifice (Offret) (1986) at Barbican Cinema
DESCRIPTION:Cold War Visions: The Sacrifice (Offret) (1986)\nat Barbican Cinema\nBook: https://www.barbican.org.uk/whats-on/2026/event/cold-war-visions-the-sacrifice-offret\nvia Pictures (pictures.london)
LOCATION:Barbican Cinema\, Silk Street\, Barbican\, EC2Y 8DS
URL:https://www.barbican.org.uk/whats-on/2026/event/cold-war-visions-the-sacrifice-offret
STATUS:CONFIRMED
END:VEVENT
END:VCALENDAR