BEGIN:VCALENDAR
VERSION:2.0
PRODID:-//Pictures London//Cinema Listings//EN
CALSCALE:GREGORIAN
METHOD:PUBLISH
X-WR-CALNAME:Pictures London Cinema
BEGIN:VEVENT
UID:3db1d7dd-39b0-45d0-a7d9-abdb506baabc@pictures.london
DTSTART:20260421T193000Z
DTEND:20260421T213000Z
SUMMARY:RIO FOREVER: PURPLE RAIN (1984) at Rio Cinema
DESCRIPTION:RIO FOREVER: PURPLE RAIN (1984)\nat Rio Cinema\nBook: https://riocinema.org.uk/Rio.dll/WhatsOn?f=2383854\nvia Pictures (pictures.london)
LOCATION:Rio Cinema\, 107 Kingsland High Street\, Dalston\, E8 2PB
URL:https://riocinema.org.uk/Rio.dll/WhatsOn?f=2383854
STATUS:CONFIRMED
END:VEVENT
END:VCALENDAR