BEGIN:VCALENDAR
VERSION:2.0
PRODID:-//Pictures London//Cinema Listings//EN
CALSCALE:GREGORIAN
METHOD:PUBLISH
X-WR-CALNAME:Pictures London Cinema
BEGIN:VEVENT
UID:3d90d5ea-5ece-44f3-8e00-ca5afff41605@pictures.london
DTSTART:20260422T100000Z
DTEND:20260422T120700Z
SUMMARY:Michael (2026) at Everyman Muswell Hill
DESCRIPTION:Michael (2026)\nat Everyman Muswell Hill\nBook: https://purchase.everymancinema.com/launch/ticketing/9092cb73-5ed0-5856-b253-7f7f96944372\nvia Pictures (pictures.london)
LOCATION:Everyman Muswell Hill\, Fortis Green Road\, Muswell Hill\, N10 3TD
URL:https://purchase.everymancinema.com/launch/ticketing/9092cb73-5ed0-5856-b253-7f7f96944372
STATUS:CONFIRMED
END:VEVENT
END:VCALENDAR