BEGIN:VCALENDAR
VERSION:2.0
PRODID:-//Pictures London//Cinema Listings//EN
CALSCALE:GREGORIAN
METHOD:PUBLISH
X-WR-CALNAME:Pictures London Cinema
BEGIN:VEVENT
UID:3d733419-43af-4948-ba19-7901855e25be@pictures.london
DTSTART:20260422T145000Z
DTEND:20260422T165700Z
SUMMARY:Michael (2026) at Clapham Picturehouse
DESCRIPTION:Michael (2026)\nat Clapham Picturehouse\nBook: https://www.picturehouses.com/movie-details/020/HO00017772/michael\nvia Pictures (pictures.london)
LOCATION:Clapham Picturehouse\, 76 Venn Street\, Clapham\, SW4 7UL
URL:https://www.picturehouses.com/movie-details/020/HO00017772/michael
STATUS:CONFIRMED
END:VEVENT
END:VCALENDAR