BEGIN:VCALENDAR
VERSION:2.0
PRODID:-//Pictures London//Cinema Listings//EN
CALSCALE:GREGORIAN
METHOD:PUBLISH
X-WR-CALNAME:Pictures London Cinema
BEGIN:VEVENT
UID:3d36ab6e-dcef-4fcf-8636-066c8a8dcb8b@pictures.london
DTSTART:20260421T194500Z
DTEND:20260421T222200Z
SUMMARY:Project Hail Mary (2026) at Everyman Stratford International
DESCRIPTION:Project Hail Mary (2026)\nat Everyman Stratford International\nBook: https://purchase.everymancinema.com/launch/ticketing/67a01ce1-16b2-52de-a5c8-04eb7fafb9a4\nvia Pictures (pictures.london)
LOCATION:Everyman Stratford International\, International Way\, Stratford\, E20 1GL
URL:https://purchase.everymancinema.com/launch/ticketing/67a01ce1-16b2-52de-a5c8-04eb7fafb9a4
STATUS:CONFIRMED
END:VEVENT
END:VCALENDAR