BEGIN:VCALENDAR
VERSION:2.0
PRODID:-//Pictures London//Cinema Listings//EN
CALSCALE:GREGORIAN
METHOD:PUBLISH
X-WR-CALNAME:Pictures London Cinema
BEGIN:VEVENT
UID:3c83f044-f9a9-4146-85b1-507a5dbe7421@pictures.london
DTSTART:20260421T170000Z
DTEND:20260421T183800Z
SUMMARY:The Super Mario Galaxy Movie (2026) at Everyman Chelsea
DESCRIPTION:The Super Mario Galaxy Movie (2026)\nat Everyman Chelsea\nBook: https://purchase.everymancinema.com/launch/ticketing/50e12c97-160b-593e-89ee-9dd008bfc573\nvia Pictures (pictures.london)
LOCATION:Everyman Chelsea\, 279 King's Road\, Chelsea\, SW3 3TD
URL:https://purchase.everymancinema.com/launch/ticketing/50e12c97-160b-593e-89ee-9dd008bfc573
STATUS:CONFIRMED
END:VEVENT
END:VCALENDAR