BEGIN:VCALENDAR
VERSION:2.0
PRODID:-//Pictures London//Cinema Listings//EN
CALSCALE:GREGORIAN
METHOD:PUBLISH
X-WR-CALNAME:Pictures London Cinema
BEGIN:VEVENT
UID:3bd844c3-c50b-459d-8d01-84b3392952b9@pictures.london
DTSTART:20260421T205000Z
DTEND:20260421T223500Z
SUMMARY:The Drama (2026) at Everyman Maida Vale
DESCRIPTION:The Drama (2026)\nat Everyman Maida Vale\nBook: https://purchase.everymancinema.com/launch/ticketing/2ac81552-f48a-5d63-9d88-15735aee5865\nvia Pictures (pictures.london)
LOCATION:Everyman Maida Vale\, 215 Sutherland Avenue\, Maida Vale\, W9 1TT
URL:https://purchase.everymancinema.com/launch/ticketing/2ac81552-f48a-5d63-9d88-15735aee5865
STATUS:CONFIRMED
END:VEVENT
END:VCALENDAR