BEGIN:VCALENDAR
VERSION:2.0
PRODID:-//Pictures London//Cinema Listings//EN
CALSCALE:GREGORIAN
METHOD:PUBLISH
X-WR-CALNAME:Pictures London Cinema
BEGIN:VEVENT
UID:3bca70e2-56a0-4b24-a820-0fe5d0a20afc@pictures.london
DTSTART:20260421T200000Z
DTEND:20260421T215000Z
SUMMARY:Father Mother Sister Brother (2025) at Curzon Soho
DESCRIPTION:Father Mother Sister Brother (2025)\nat Curzon Soho\nBook: https://www.curzon.com/films/father-mother-sister-brother/HO00006894/\nvia Pictures (pictures.london)
LOCATION:Curzon Soho\, 99 Shaftesbury Avenue\, Soho\, W1D 5DY
URL:https://www.curzon.com/films/father-mother-sister-brother/HO00006894/
STATUS:CONFIRMED
END:VEVENT
END:VCALENDAR