BEGIN:VCALENDAR
VERSION:2.0
PRODID:-//Pictures London//Cinema Listings//EN
CALSCALE:GREGORIAN
METHOD:PUBLISH
X-WR-CALNAME:Pictures London Cinema
BEGIN:VEVENT
UID:3bc012ce-5da7-44f6-9652-52cf79301b45@pictures.london
DTSTART:20260421T174500Z
DTEND:20260421T194500Z
SUMMARY:AKIRA (2026 Re-release) (Subbed) (2026) at Everyman Crystal Palace
DESCRIPTION:AKIRA (2026 Re-release) (Subbed) (2026)\nat Everyman Crystal Palace\nFormat: DCP_4K\nBook: https://purchase.everymancinema.com/launch/ticketing/57c49ca9-15e7-542d-927e-5fe71feae82b\nvia Pictures (pictures.london)
LOCATION:Everyman Crystal Palace\, 25 Church Road\, Crystal Palace\, SE19 2AE
URL:https://purchase.everymancinema.com/launch/ticketing/57c49ca9-15e7-542d-927e-5fe71feae82b
STATUS:CONFIRMED
END:VEVENT
END:VCALENDAR