BEGIN:VCALENDAR
VERSION:2.0
PRODID:-//Pictures London//Cinema Listings//EN
CALSCALE:GREGORIAN
METHOD:PUBLISH
X-WR-CALNAME:Pictures London Cinema
BEGIN:VEVENT
UID:3b482aa8-0e25-44ce-8c7c-c3e88ae20aeb@pictures.london
DTSTART:20260421T200000Z
DTEND:20260421T214500Z
SUMMARY:The Drama (2026) at Finsbury Park Picturehouse
DESCRIPTION:The Drama (2026)\nat Finsbury Park Picturehouse\nBook: https://www.picturehouses.com/movie-details/029/HO00017737/the-drama\nvia Pictures (pictures.london)
LOCATION:Finsbury Park Picturehouse\, Unit B\, Finsbury Park Station\, Finsbury Park\, N4 3FP
URL:https://www.picturehouses.com/movie-details/029/HO00017737/the-drama
STATUS:CONFIRMED
END:VEVENT
END:VCALENDAR