BEGIN:VCALENDAR
VERSION:2.0
PRODID:-//Pictures London//Cinema Listings//EN
CALSCALE:GREGORIAN
METHOD:PUBLISH
X-WR-CALNAME:Pictures London Cinema
BEGIN:VEVENT
UID:3b0c2ea5-fe36-466e-9c7f-8c90130556fb@pictures.london
DTSTART:20260421T160000Z
DTEND:20260421T172200Z
SUMMARY:Departures (2026) at Curzon Bloomsbury
DESCRIPTION:Departures (2026)\nat Curzon Bloomsbury\nBook: https://www.curzon.com/films/departures/HO00006871/\nvia Pictures (pictures.london)
LOCATION:Curzon Bloomsbury\, The Brunswick Centre\, Bloomsbury\, WC1H 8AG
URL:https://www.curzon.com/films/departures/HO00006871/
STATUS:CONFIRMED
END:VEVENT
END:VCALENDAR