BEGIN:VCALENDAR
VERSION:2.0
PRODID:-//Pictures London//Cinema Listings//EN
CALSCALE:GREGORIAN
METHOD:PUBLISH
X-WR-CALNAME:Pictures London Cinema
BEGIN:VEVENT
UID:3a5fcd54-3e00-4e1a-92ce-678425002528@pictures.london
DTSTART:20260421T201000Z
DTEND:20260421T214600Z
SUMMARY:Rebuilding (2025) at Curzon Bloomsbury
DESCRIPTION:Rebuilding (2025)\nat Curzon Bloomsbury\nBook: https://www.curzon.com/films/rebuilding/HO00006901/\nvia Pictures (pictures.london)
LOCATION:Curzon Bloomsbury\, The Brunswick Centre\, Bloomsbury\, WC1H 8AG
URL:https://www.curzon.com/films/rebuilding/HO00006901/
STATUS:CONFIRMED
END:VEVENT
END:VCALENDAR