BEGIN:VCALENDAR
VERSION:2.0
PRODID:-//Pictures London//Cinema Listings//EN
CALSCALE:GREGORIAN
METHOD:PUBLISH
X-WR-CALNAME:Pictures London Cinema
BEGIN:VEVENT
UID:3a480307-8140-4cee-970e-1613ac7e07cc@pictures.london
DTSTART:20260421T104500Z
DTEND:20260421T121400Z
SUMMARY:Stand by Me (1986) at Everyman Maida Vale
DESCRIPTION:Stand by Me (1986)\nat Everyman Maida Vale\nEvent: anniversary\nBook: https://purchase.everymancinema.com/launch/ticketing/285d1733-e625-5ff7-b056-e231d92ed305\nvia Pictures (pictures.london)
LOCATION:Everyman Maida Vale\, 215 Sutherland Avenue\, Maida Vale\, W9 1TT
URL:https://purchase.everymancinema.com/launch/ticketing/285d1733-e625-5ff7-b056-e231d92ed305
STATUS:CONFIRMED
END:VEVENT
END:VCALENDAR