BEGIN:VCALENDAR
VERSION:2.0
PRODID:-//Pictures London//Cinema Listings//EN
CALSCALE:GREGORIAN
METHOD:PUBLISH
X-WR-CALNAME:Pictures London Cinema
BEGIN:VEVENT
UID:39421b64-7ec1-4dd6-9745-e825dbb005a1@pictures.london
DTSTART:20260421T190000Z
DTEND:20260421T211300Z
SUMMARY:La Grazia (2025) at Everyman Stratford International
DESCRIPTION:La Grazia (2025)\nat Everyman Stratford International\nBook: https://purchase.everymancinema.com/launch/ticketing/834b71fe-d712-58e7-8045-ece11849fc42\nvia Pictures (pictures.london)
LOCATION:Everyman Stratford International\, International Way\, Stratford\, E20 1GL
URL:https://purchase.everymancinema.com/launch/ticketing/834b71fe-d712-58e7-8045-ece11849fc42
STATUS:CONFIRMED
END:VEVENT
END:VCALENDAR