BEGIN:VCALENDAR
VERSION:2.0
PRODID:-//Pictures London//Cinema Listings//EN
CALSCALE:GREGORIAN
METHOD:PUBLISH
X-WR-CALNAME:Pictures London Cinema
BEGIN:VEVENT
UID:39281856-70d8-41a0-bffe-f6df0373bd9f@pictures.london
DTSTART:20260425T160000Z
DTEND:20260425T180000Z
SUMMARY:MOSTOVI: SURVIVING EARTH + Q&amp\;A (2025) at Rio Cinema
DESCRIPTION:MOSTOVI: SURVIVING EARTH + Q&amp\;A (2025)\nat Rio Cinema\nBook: https://riocinema.org.uk/Rio.dll/WhatsOn?f=2447533\nvia Pictures (pictures.london)
LOCATION:Rio Cinema\, 107 Kingsland High Street\, Dalston\, E8 2PB
URL:https://riocinema.org.uk/Rio.dll/WhatsOn?f=2447533
STATUS:CONFIRMED
END:VEVENT
END:VCALENDAR