BEGIN:VCALENDAR
VERSION:2.0
PRODID:-//Pictures London//Cinema Listings//EN
CALSCALE:GREGORIAN
METHOD:PUBLISH
X-WR-CALNAME:Pictures London Cinema
BEGIN:VEVENT
UID:387b4786-b119-4f63-a37d-2a4fe53c692f@pictures.london
DTSTART:20260425T204500Z
DTEND:20260425T205500Z
SUMMARY:The Plumber (2025) at BFI Southbank
DESCRIPTION:The Plumber (2025)\nat BFI Southbank\nBook: https://whatson.bfi.org.uk/Online/default.asp?doWork::WScontent::loadArticle=Load&BOparam::WScontent::loadArticle::article_id=A502FB9C-8DFB-4C29-B59F-FE4AFACE9E3F&BOparam::WScontent::loadArticle::context_id=4317614E-5673-4275-BD7F-B84C82FB025C\nvia Pictures (pictures.london)
LOCATION:BFI Southbank\, Belvedere Road\, South Bank\, SE1 8XT
URL:https://whatson.bfi.org.uk/Online/default.asp?doWork::WScontent::loadArticle=Load&BOparam::WScontent::loadArticle::article_id=A502FB9C-8DFB-4C29-B59F-FE4AFACE9E3F&BOparam::WScontent::loadArticle::context_id=4317614E-5673-4275-BD7F-B84C82FB025C
STATUS:CONFIRMED
END:VEVENT
END:VCALENDAR