BEGIN:VCALENDAR
VERSION:2.0
PRODID:-//Pictures London//Cinema Listings//EN
CALSCALE:GREGORIAN
METHOD:PUBLISH
X-WR-CALNAME:Pictures London Cinema
BEGIN:VEVENT
UID:37b8cf78-9b9d-448f-b99e-1e36dfecc079@pictures.london
DTSTART:20260421T200000Z
DTEND:20260421T214500Z
SUMMARY:The Drama (2026) at Greenwich Picturehouse
DESCRIPTION:The Drama (2026)\nat Greenwich Picturehouse\nBook: https://www.picturehouses.com/movie-details/021/HO00017737/the-drama\nvia Pictures (pictures.london)
LOCATION:Greenwich Picturehouse\, 180 Greenwich High Road\, Greenwich\, SE10 9HB
URL:https://www.picturehouses.com/movie-details/021/HO00017737/the-drama
STATUS:CONFIRMED
END:VEVENT
END:VCALENDAR